BEGIN:VCALENDAR
VERSION:2.0
PRODID:-//eventon.com NONSGML v1.0//EN
CALSCALE:GREGORIAN
METHOD:PUBLISH
BEGIN:VEVENT
UID:69e601ba1d497
DTSTAMP:20260420T103642Z
DTSTART:20260801T080000Z
DTEND:20260801T090000Z
LOCATION:
SUMMARY:SDRVC -Yoga at the Birdwing Open Air Classroom
DESCRIPTION:* Classes are subject to change based on the instructor or grou
 p. 1st&nbsp;Saturday &amp; Sunday:&nbsp;9am &#8211; 10am&nbsp;Yoga [Sculpt]
  with&nbsp;Mary 3rd Saturday &amp; Sunday:&nbsp;9am &#8211; 10am&nbsp;Vinya
 sa with Susan&nbsp;(Includes music) 2nd and 4th&nbsp;Saturday:&nbsp;10am &#
 8211; 11am&nbsp;Slow Flow with Anna 2nd and 4th&nbsp;Sunday:&nbsp;9am &#821
 1; 10am&nbsp;Gentle Flow with Robbie * Visit their Eventbrite page for[..]\
 nhttps://sdrp.org/events/sdrvc-yoga-at-the-birdwing-open-air-classroom/var/
 ri-6.l-L1
URL:https://sdrp.org/events/sdrvc-yoga-at-the-birdwing-open-air-classroom/var/ri-6.l-L1
END:VEVENT
END:VCALENDAR