BEGIN:VCALENDAR
VERSION:2.0
PRODID:-//eventon.com NONSGML v1.0//EN
CALSCALE:GREGORIAN
METHOD:PUBLISH
BEGIN:VEVENT
UID:69e743ea0974d
DTSTAMP:20260421T093122Z
DTSTART:20250209T170000Z
DTEND:20250209T200000Z
LOCATION:
SUMMARY:Volunteer Trail Maintenance
DESCRIPTION:Work with our Rangers to improve the trails in the River Park! 
 Unmaintained trails can quickly become rutted\,  unstable\,  or eroded\,  a
 nd are generally unpleasant to hike\,  bike\,  or ride a horse on. Tasks ca
 n include clearing and creating drainages\,  filling ruts\,  trimming plant
 s\,  weed whipping overgrown areas\,  resurfacing trails\, [..]\nhttps://sd
 rp.org/events/volunteer-trail-maintenance/
URL:https://sdrp.org/events/volunteer-trail-maintenance/
END:VEVENT
END:VCALENDAR